BEGIN:VCALENDAR
VERSION:2.0
PRODID:-//Seminary - ECPv6.2.9//NONSGML v1.0//EN
CALSCALE:GREGORIAN
METHOD:PUBLISH
X-WR-CALNAME:Seminary
X-ORIGINAL-URL:https://reachoutseminary.org
X-WR-CALDESC:Events for Seminary
REFRESH-INTERVAL;VALUE=DURATION:PT1H
X-Robots-Tag:noindex
X-PUBLISHED-TTL:PT1H
BEGIN:VTIMEZONE
TZID:UTC
BEGIN:STANDARD
TZOFFSETFROM:+0000
TZOFFSETTO:+0000
TZNAME:UTC
DTSTART:20210101T000000
END:STANDARD
END:VTIMEZONE
BEGIN:VEVENT
DTSTART;TZID=UTC:20210130T090000
DTEND;TZID=UTC:20210130T090000
DTSTAMP:20260424T161602
CREATED:20201218T111303Z
LAST-MODIFIED:20201218T111303Z
UID:1388-1611997200-1611997200@reachoutseminary.org
SUMMARY:Graduation Service
DESCRIPTION:
URL:https://reachoutseminary.org/event/graduation-service/
END:VEVENT
BEGIN:VEVENT
DTSTART;TZID=UTC:20210131T083000
DTEND;TZID=UTC:20210131T083000
DTSTAMP:20260424T161602
CREATED:20201218T111346Z
LAST-MODIFIED:20201218T111931Z
UID:1390-1612081800-1612081800@reachoutseminary.org
SUMMARY:Final common worship
DESCRIPTION:
URL:https://reachoutseminary.org/event/final-common-worship/
END:VEVENT
BEGIN:VEVENT
DTSTART;VALUE=DATE:20210201
DTEND;VALUE=DATE:20210203
DTSTAMP:20260424T161602
CREATED:20260223T111440Z
LAST-MODIFIED:20260304T170115Z
UID:1392-1612137600-1612310399@reachoutseminary.org
SUMMARY:Issuance of certificates
DESCRIPTION:
URL:https://reachoutseminary.org/event/issuance-of-certificates/
END:VEVENT
END:VCALENDAR