BEGIN:VCALENDAR
VERSION:2.0
PRODID:-//Seminary - ECPv6.2.9//NONSGML v1.0//EN
CALSCALE:GREGORIAN
METHOD:PUBLISH
X-WR-CALNAME:Seminary
X-ORIGINAL-URL:https://reachoutseminary.org
X-WR-CALDESC:Events for Seminary
REFRESH-INTERVAL;VALUE=DURATION:PT1H
X-Robots-Tag:noindex
X-PUBLISHED-TTL:PT1H
BEGIN:VTIMEZONE
TZID:UTC
BEGIN:STANDARD
TZOFFSETFROM:+0000
TZOFFSETTO:+0000
TZNAME:UTC
DTSTART:20200101T000000
END:STANDARD
END:VTIMEZONE
BEGIN:VEVENT
DTSTART;VALUE=DATE:20200905
DTEND;VALUE=DATE:20200906
DTSTAMP:20260424T161750
CREATED:20201218T105442Z
LAST-MODIFIED:20201218T113920Z
UID:1348-1599264000-1599350399@reachoutseminary.org
SUMMARY:Teacher’s Day
DESCRIPTION:
URL:https://reachoutseminary.org/event/teachers-day/
END:VEVENT
BEGIN:VEVENT
DTSTART;VALUE=DATE:20200831
DTEND;VALUE=DATE:20200905
DTSTAMP:20260424T161750
CREATED:20201218T105232Z
LAST-MODIFIED:20201218T114026Z
UID:1346-1598832000-1599263999@reachoutseminary.org
SUMMARY:Onam Vacation
DESCRIPTION:
URL:https://reachoutseminary.org/event/onam-vacation/
END:VEVENT
BEGIN:VEVENT
DTSTART;VALUE=DATE:20200815
DTEND;VALUE=DATE:20200816
DTSTAMP:20260424T161750
CREATED:20201218T104842Z
LAST-MODIFIED:20201218T114638Z
UID:1344-1597449600-1597535999@reachoutseminary.org
SUMMARY:Independence Day Celebration
DESCRIPTION:
URL:https://reachoutseminary.org/event/independence-day-celebration/
END:VEVENT
BEGIN:VEVENT
DTSTART;VALUE=DATE:20200803
DTEND;VALUE=DATE:20200804
DTSTAMP:20260424T161750
CREATED:20201218T104651Z
LAST-MODIFIED:20201218T114538Z
UID:1342-1596412800-1596499199@reachoutseminary.org
SUMMARY:Mid- term Exam class wise
DESCRIPTION:
URL:https://reachoutseminary.org/event/mid-term-exam-class-wise/
END:VEVENT
BEGIN:VEVENT
DTSTART;VALUE=DATE:20200513
DTEND;VALUE=DATE:20200514
DTSTAMP:20260424T161750
CREATED:20201218T101950Z
LAST-MODIFIED:20201218T114811Z
UID:1338-1589328000-1589414399@reachoutseminary.org
SUMMARY:Classes begin and Orientation
DESCRIPTION:
URL:https://reachoutseminary.org/event/aaa/
END:VEVENT
END:VCALENDAR