BEGIN:VCALENDAR
VERSION:2.0
PRODID:-//Seminary - ECPv6.2.9//NONSGML v1.0//EN
CALSCALE:GREGORIAN
METHOD:PUBLISH
X-WR-CALNAME:Seminary
X-ORIGINAL-URL:https://reachoutseminary.org
X-WR-CALDESC:Events for Seminary
REFRESH-INTERVAL;VALUE=DURATION:PT1H
X-Robots-Tag:noindex
X-PUBLISHED-TTL:PT1H
BEGIN:VTIMEZONE
TZID:UTC
BEGIN:STANDARD
TZOFFSETFROM:+0000
TZOFFSETTO:+0000
TZNAME:UTC
DTSTART:20200101T000000
END:STANDARD
END:VTIMEZONE
BEGIN:VEVENT
DTSTART;VALUE=DATE:20201222
DTEND;VALUE=DATE:20201226
DTSTAMP:20260424T090650
CREATED:20201218T110210Z
LAST-MODIFIED:20201218T113615Z
UID:1368-1608595200-1608940799@reachoutseminary.org
SUMMARY:Christmas Vacation
DESCRIPTION:
URL:https://reachoutseminary.org/event/christmas-vacation/
END:VEVENT
END:VCALENDAR